BEGIN:VCALENDAR
VERSION:2.0
PRODID:-//ChamberMaster//Event Calendar 2.0//EN
METHOD:PUBLISH
X-PUBLISHED-TTL:P3D
REFRESH-INTERVAL:P3D
CALSCALE:GREGORIAN
BEGIN:VEVENT
DTSTART:20170427T230000Z
DTEND:20170428T010000Z
X-MICROSOFT-CDO-ALLDAYEVENT:FALSE
SUMMARY:Sunset Meet & Greet
DESCRIPTION:Join us for our business after hours events. Members and guests are welcome to take advantage of these after-hours opportunities for extended conversations and relationship building in the business community.\n\nGet your Spring and Summer Wardrobe ready with fab'rik\n\nThe promotion will be 20% off FULL priced items and special door prizes giveaways.
X-ALT-DESC;FMTTYPE=text/html:<p><span style="font-size:14px\;"><span style="font-family:arial\;">Join us for our business after hours events. <span style="background-image:initial\;background-position:initial\;background-size:initial\;background-repeat:initial\;background-attachment:initial\;background-origin:initial\;background-clip:initial\;">Members and guests are welcome to take advantage of these after-hours opportunities for extended conversations and relationship building in the business community.</span></span></span></p>\n\n<p class="p1" style="margin: 0px\; font-stretch: normal\; font-size: 15px\; line-height: normal\; font-family: Calibri\; -webkit-text-stroke-color: rgb(0\, 0\, 0)\;"><span style="font-size:14px\;"><span style="font-family:arial\;"><span class="s1" style="font-kerning: none\;">Get your Spring&nbsp\;and Summer Wardrobe ready with&nbsp\;fab&#39\;rik</span></span></span></p>\n\n<p class="p1" style="margin: 0px\; font-stretch: normal\; font-size: 15px\; line-height: normal\; font-family: Calibri\; -webkit-text-stroke-color: rgb(0\, 0\, 0)\;"><span style="font-size:14px\;"><span style="font-family:arial\;"><span class="s1" style="font-kerning: none\;">The promotion will be 20% off FULL priced items and special door prizes giveaways.</span></span></span></p>\n<br />\n<br />\n&nbsp\;
LOCATION:5278 N Nevada Ave #130 Colorado Springs\, CO 80918 p.p1 {margin: 0.0px 0.0px 0.0px 0.0px\; font: 15.0px Calibri\; -webkit-text-stroke: #000000} span.s1 {font-kerning: none}
UID:e.1128.2958
SEQUENCE:3
DTSTAMP:20260424T071630Z
URL:https://chamber.scwcc.com/events/details/sunset-meet-greet-2958
END:VEVENT

END:VCALENDAR
