BEGIN:VCALENDAR
VERSION:2.0
PRODID:-//ChamberMaster//Event Calendar 2.0//EN
METHOD:PUBLISH
X-PUBLISHED-TTL:P3D
REFRESH-INTERVAL:P3D
CALSCALE:GREGORIAN
BEGIN:VEVENT
DTSTART:20160427T230000Z
DTEND:20160428T020000Z
X-MICROSOFT-CDO-ALLDAYEVENT:FALSE
SUMMARY:Springtime Creativity Boost: Cultivate Out-of-the-box Thinking in your Organization
DESCRIPTION:It's the time of year when new and exciting things are popping up all over the place: flowers\, grass\, ideas  It's time to consider ways to encourage creativity in the workplace and in our lives.  Plant the seeds now for a spectacular fall season!\n\n \n\nIn this workshop you will:\n\n	Learn why creativity is not synonymous with anarchy and get the best out of your people\n	Discover how to leverage diversity in your organization\n	Learn techniques that help move your organization from "either-or" thinking to "both-and"\n	Gain facilitation skills that help you turn your team's disagreements into growth\n	Learn how to set the stage for exciting new ideas to emerge
X-ALT-DESC;FMTTYPE=text/html:It&rsquo\;s the time of year when new and exciting things are popping up all over the place: flowers\, grass\, ideas&hellip\; It&rsquo\;s time to consider ways to encourage creativity in the workplace and in our lives.&nbsp\; Plant the seeds now for a spectacular fall season!<br />\n&nbsp\;<br />\nIn this workshop you will:\n<ul>\n	<li>Learn why creativity is not synonymous with anarchy and get the best out of your people</li>\n	<li>Discover how to leverage diversity in your organization</li>\n	<li>Learn techniques that help move your organization from &ldquo\;either-or&rdquo\; thinking to &ldquo\;both-and&rdquo\;</li>\n	<li>Gain facilitation skills that help you turn your team&rsquo\;s disagreements into growth</li>\n	<li>Learn how to set the stage for exciting new ideas to emerge</li>\n</ul>\n
LOCATION:V-Suites\, 2480 Waynoka Rd. Colorado Springs\, CO 80915
UID:e.1128.2386
SEQUENCE:3
DTSTAMP:20260424T231505Z
URL:https://chamber.scwcc.com/events/details/springtime-creativity-boost-cultivate-out-of-the-box-thinking-in-your-organization-04-27-2016-2386
END:VEVENT

END:VCALENDAR
