BEGIN:VCALENDAR
VERSION:2.0
PRODID:-//ChamberMaster//Event Calendar 2.0//EN
METHOD:PUBLISH
X-PUBLISHED-TTL:P3D
REFRESH-INTERVAL:P3D
CALSCALE:GREGORIAN
BEGIN:VEVENT
DTSTART:20150418T160000Z
DTEND:20150418T220000Z
X-MICROSOFT-CDO-ALLDAYEVENT:FALSE
SUMMARY:Spring Into Gifts Expo
DESCRIPTION:Stephanie Howard at the Doubletree by Hilton shares this event at her venue. The Third Annual Spring Into Gifts Expo is geared towards Mother's Day\, Graduations\, Weddings\, and admission is free to the public.\n\n\n\nExhibitor cost is $60 for a 6 foot table and also includes your business card and small item of value in 100 swag bags. For an extra $10 your offer will be included in a coupon book we will give out.\n\n\n\nPlease contact Anne at (719) 570-0761 or (719) 460-0985 for more details.
X-ALT-DESC;FMTTYPE=text/html:Stephanie Howard at the Doubletree by Hilton shares this event at her venue.&nbsp\;The Third Annual Spring Into Gifts Expo is geared towards Mother&#39\;s Day\, Graduations\, Weddings\, and admission is free to the public.<br />\n<br />\nExhibitor cost is $60 for a 6 foot table and also includes your business card and small item of value in 100 swag bags. For an extra $10 your offer will be included in a coupon book we will give out.<br />\n<br />\nPlease contact Anne at (719) 570-0761 or (719) 460-0985 for more details.
LOCATION:DoubleTree by Hilton
UID:e.1128.1852
SEQUENCE:3
DTSTAMP:20260425T171905Z
URL:https://chamber.scwcc.com/events/details/spring-into-gifts-expo-04-18-2015-1852
END:VEVENT

END:VCALENDAR
