BEGIN:VCALENDAR
VERSION:2.0
PRODID:-//ChamberMaster//Event Calendar 2.0//EN
METHOD:PUBLISH
X-PUBLISHED-TTL:P3D
REFRESH-INTERVAL:P3D
CALSCALE:GREGORIAN
BEGIN:VEVENT
DTSTART:20160512T173000Z
DTEND:20160512T200000Z
X-MICROSOFT-CDO-ALLDAYEVENT:FALSE
SUMMARY:Sit with SCWCC at ATHENA
DESCRIPTION:Please join the Women's Chamber as we share in celebrating one of the premier women's events in Colorado Springs ... the ATHENA Awards Luncheon.\n\n\n\n   Your registration here will seat you at one of the SCWCC-reserved tables.  \n\n\n\nThe ATHENA Award will honor an outstanding community and business leader who encourages women to achieve their full leadership potential.\n\n\n\nThe luncheon includes Keynote speaker: \n\nPolly Letofsky of GlobalWalk\, Inc.  \n\nLittle Steps\, Big Feat   Life and Leadership Lessons from a Walk Around the World
X-ALT-DESC;FMTTYPE=text/html:Please join the Women&#39\;s Chamber as we share in celebrating&nbsp\;one of the premier women&rsquo\;s events in Colorado Springs ... the <strong>ATHENA Awards Luncheon</strong>.<br />\n<br />\n<span style="color: rgb(255\, 0\, 0)\;"><strong>&gt\;&gt\; Your registration here will&nbsp\;seat you&nbsp\;at one of the SCWCC-reserved tables.</strong> </span>&nbsp\;<br />\n<br />\nThe&nbsp\;ATHENA Award will honor an outstanding community and business leader who encourages women to achieve their full leadership potential.<br />\n<br />\nThe luncheon includes Keynote speaker:&nbsp\;<br />\n<a href="http://www.pollyletofsky.com/2010/06/globalwalk-inc/">Polly Letofsky of GlobalWalk\, Inc.</a> &nbsp\;<br />\nLittle Steps\, Big Feat &mdash\; Life and Leadership Lessons from a Walk Around the World
LOCATION:The Antlers 4 South Cascade Avenue
UID:e.1128.2631
SEQUENCE:3
DTSTAMP:20260424T231930Z
URL:https://chamber.scwcc.com/events/details/sit-with-scwcc-at-athena-05-12-2016-2631
END:VEVENT

END:VCALENDAR
