BEGIN:VCALENDAR
VERSION:2.0
PRODID:-//ChamberMaster//Event Calendar 2.0//EN
METHOD:PUBLISH
X-PUBLISHED-TTL:P3D
REFRESH-INTERVAL:P3D
CALSCALE:GREGORIAN
BEGIN:VEVENT
DTSTART:20170525T230000Z
DTEND:20170526T010000Z
X-MICROSOFT-CDO-ALLDAYEVENT:FALSE
SUMMARY:SCWCC Sunset Meet & Greet
DESCRIPTION:Join us for our business after hours events.   Members and guests are welcome to take advantage of these after-hours opportunities for extended conversations and relationship building in the business community.
X-ALT-DESC;FMTTYPE=text/html:<p><span style="font-size: 14px\;"><span style="font-family: arial\;">Join us for our business after hours events. &nbsp\;&nbsp\;<span style="background-image: initial\; background-position: initial\; background-size: initial\; background-repeat: initial\; background-attachment: initial\; background-origin: initial\; background-clip: initial\;">Members and guests are welcome to take advantage of these after-hours opportunities for extended conversations and relationship building in the business community.</span></span></span></p>\n\n<hr />\n<p><br />\n&nbsp\;</p>\n
LOCATION:4336 N. Nevada Avenue Colorado Springs\, CO 80907
UID:e.1128.583
SEQUENCE:3
DTSTAMP:20260424T040518Z
URL:https://chamber.scwcc.com/events/details/scwcc-sunset-meet-greet-05-25-2017-583
END:VEVENT

END:VCALENDAR
