BEGIN:VCALENDAR
VERSION:2.0
PRODID:-//ChamberMaster//Event Calendar 2.0//EN
METHOD:PUBLISH
X-PUBLISHED-TTL:P3D
REFRESH-INTERVAL:P3D
CALSCALE:GREGORIAN
BEGIN:VEVENT
DTSTART:20170303T000000Z
DTEND:20170303T020000Z
X-MICROSOFT-CDO-ALLDAYEVENT:FALSE
SUMMARY:SCWCC Sunset Meet & Greet
DESCRIPTION:Join us for an Elevated Business After Hours at The Summit where Entertainment is Elevated with Appetizers Extravaganza and Drinks.  The first 50 registered guest will receive a free $10 arcade card. \n\nMembers and guests are welcome to take advantage of these after-hours opportunities for relationship building in the business community as well as learn more about what our business partners have to offer our community.\n\n\n\nMembers ONLY Sponsorship Opportunities \n\nTo learn more about our Sunset Meet & Greet and eligible for sponsorship opportunities specific to each venue. Contact Executive Director for details.
X-ALT-DESC;FMTTYPE=text/html:<p><span style="font-family:&quot\;Arial&quot\;\,&quot\;sans-serif&quot\;\;color:#403F42">Join us for an Elevated Business After Hours at The Summit where Entertainment is Elevated with Appetizers Extravaganza and Drinks. &nbsp\;The first 50 registered guest will receive a free $10 arcade card.&nbsp\;</span><span style="font-size:9.0pt\;font-family:&quot\;Arial&quot\;\,&quot\;sans-serif&quot\;\;\ncolor:#403F42"><o:p></o:p></span></p>\n\n<p>Members and guests are welcome to take advantage of these after-hours opportunities for relationship building in the business community as well as learn more about what our business partners have to offer our community.<br />\n<br />\n<span style="color: rgb(0\, 128\, 128)\;"><b>Members ONLY Sponsorship Opportunities </b></span><br />\nTo learn more about our Sunset Meet &amp\; Greet and eligible for sponsorship opportunities specific to each venue. <a href="mailto:lolaw@scwcc.com?subject=Sponsorship%20query">Contact Executive Director</a> for details.</p>\n
LOCATION:1180 InterQuest Parkway Colorado Springs\, CO 80921
UID:e.1128.582
SEQUENCE:3
DTSTAMP:20260424T072111Z
URL:https://chamber.scwcc.com/events/details/scwcc-sunset-meet-greet-03-30-2017-582
END:VEVENT

END:VCALENDAR
