BEGIN:VCALENDAR
VERSION:2.0
PRODID:-//ChamberMaster//Event Calendar 2.0//EN
METHOD:PUBLISH
X-PUBLISHED-TTL:P3D
REFRESH-INTERVAL:P3D
CALSCALE:GREGORIAN
BEGIN:VEVENT
DTSTART:20161202T000000Z
DTEND:20161202T020000Z
X-MICROSOFT-CDO-ALLDAYEVENT:FALSE
SUMMARY:SCWCC Sunset Meet & Greet
DESCRIPTION:Plan to enjoy wine selections and an array of appetizers - along with plenty of happy hour networking. Make your wish list for the Holiday Season. Bring a guest or your significant other and enjoy a great evening of networking\, prize drawings\, and shopping before we hear from Luisa who will conduct a special giveaway.
X-ALT-DESC;FMTTYPE=text/html:<p font-size:="" style="color: rgb(51\, 51\, 51)\; font-family: sans-serif\, Arial\, Verdana\, " trebuchet="">Plan to enjoy wine selections and an array of appetizers - along with plenty of happy hour networking. Make your wish list for the Holiday Season. Bring a guest or your significant other and enjoy a great evening of networking\, prize drawings\,&nbsp\;and shopping before we hear from Luisa who will conduct&nbsp\;a special giveaway. &nbsp\;<br />\n&nbsp\;</p>\n
LOCATION:Luisa Graff Jewelers 5901 North Nevada
UID:e.1128.581
SEQUENCE:3
DTSTAMP:20260424T113226Z
URL:https://chamber.scwcc.com/events/details/scwcc-sunset-meet-greet-01-26-2017-581
END:VEVENT

END:VCALENDAR
