BEGIN:VCALENDAR
VERSION:2.0
PRODID:-//ChamberMaster//Event Calendar 2.0//EN
METHOD:PUBLISH
X-PUBLISHED-TTL:P3D
REFRESH-INTERVAL:P3D
CALSCALE:GREGORIAN
BEGIN:VEVENT
DTSTART:20170203T143000Z
DTEND:20170203T160000Z
X-MICROSOFT-CDO-ALLDAYEVENT:FALSE
SUMMARY:SCWCC First Friday Coffee
DESCRIPTION:Set your alarm ... and join the SCWCC for its Early Bird Networking Session at 7:30am every "First Friday" of the month (with occasional adjustments around holiday weekends).\n\nWhy get up so early? It's an excellent opportunity to meet other chipper\, early-riser businesswomen ... to chat\, network and make important connections. It's also a great way for non-members to find out more about the Women's Chamber. We'll be looking for you!\n\n\n\nThe Inn at Garden Plaza can be found just slightly south-and-east of Stargazers (off Pikes Peak) and offers plenty of lot and on-street free parking. You'll enter the main doors\, locate elevators on the right (across from reception)\, then go down one level and the meeting room is to the immediate left.
X-ALT-DESC;FMTTYPE=text/html:<p><br />\n<b>Set your alarm ...</b> and join the SCWCC for its Early Bird Networking Session at 7:30am every &quot\;First Friday&quot\; of the month (with occasional adjustments around holiday weekends).</p>\n\n<p>Why get up so early? It&#39\;s&nbsp\;an excellent opportunity to meet other chipper\, early-riser businesswomen ... to chat\, network and make important connections. It&#39\;s also a great way for non-members to find out more about the Women&#39\;s Chamber. We&#39\;ll be looking for you!<br />\n<br />\n<span style="color: rgb(255\, 0\, 0)\;"><a href="http://www.innatgardenplaza.com/assisted_living_contact_colorado_springs.php"><strong>The Inn at Garden Plaza</strong></a></span>&nbsp\;can be found just slightly south-and-east of Stargazers (off Pikes Peak)&nbsp\;and offers&nbsp\;plenty of lot and on-street free parking. You&#39\;ll enter the main doors\, locate elevators on the right (across from reception)\, then go down one level and the meeting room is to the immediate left.</p>\n
LOCATION:The Inn at Garden Plaza 2520 International Circle (719) 630-1155
UID:e.1128.2841
SEQUENCE:3
DTSTAMP:20260424T085759Z
URL:https://chamber.scwcc.com/events/details/scwcc-first-friday-coffee-2841
END:VEVENT

END:VCALENDAR
