BEGIN:VCALENDAR
VERSION:2.0
PRODID:-//ChamberMaster//Event Calendar 2.0//EN
METHOD:PUBLISH
X-PUBLISHED-TTL:P3D
REFRESH-INTERVAL:P3D
CALSCALE:GREGORIAN
BEGIN:VEVENT
DTSTART:20170303T143000Z
DTEND:20170303T160000Z
X-MICROSOFT-CDO-ALLDAYEVENT:FALSE
SUMMARY:SCWCC First Friday Coffee
DESCRIPTION:Set your alarm ... and join the SCWCC for its Early Bird Networking Session at 7:30am every "First Friday" of the month.\n\nWhy get up so early? It's an excellent opportunity to meet and network with solopreneurs and small businesses.
X-ALT-DESC;FMTTYPE=text/html:<p style="color: rgb(51\, 51\, 51)\; font-family: sans-serif\, Arial\, Verdana\, &quot\;Trebuchet MS&quot\;\; font-size: 13px\;"><b>Set your alarm ...</b>&nbsp\;and join the&nbsp\;SCWCC&nbsp\;for its Early Bird Networking Session at 7:30am&nbsp\;every &quot\;First Friday&quot\; of the month.</p>\n\n<p style="color: rgb(51\, 51\, 51)\; font-family: sans-serif\, Arial\, Verdana\, &quot\;Trebuchet MS&quot\;\; font-size: 13px\;">Why get up so early? It&#39\;s&nbsp\;an excellent opportunity to meet and network with solopreneurs and small businesses.</p>\n
LOCATION:Garden Inn Plaza 2520 International Circle Colorado Springs\, CO 80910
UID:e.1128.2842
SEQUENCE:3
DTSTAMP:20260424T071943Z
URL:https://chamber.scwcc.com/events/details/scwcc-first-friday-coffee-03-03-2017-2842
END:VEVENT

END:VCALENDAR
