BEGIN:VCALENDAR
VERSION:2.0
PRODID:-//ChamberMaster//Event Calendar 2.0//EN
METHOD:PUBLISH
X-PUBLISHED-TTL:P3D
REFRESH-INTERVAL:P3D
CALSCALE:GREGORIAN
BEGIN:VEVENT
DTSTART:20160128T000000Z
DTEND:20160128T030000Z
X-MICROSOFT-CDO-ALLDAYEVENT:FALSE
SUMMARY:New Year's Time Warp: Make the Most of Your Minutes in 2016
DESCRIPTION:Make the most of the new year!  Whether you want to run your business more efficiently or make your life a little less hectic\, this workshop is for you.  Learn the time management techniques of over-achievers and squeeze a little more life into your hours\, minutes\, and seconds. \n\n \n\nIn this workshop you will:\n\n	Learn a series of simple time-savers ranging from time-hacks to lasting habits\n	Examine time management from a sustainability perspective so you can prevent many avoidable\, time-consuming problems\n	Learn how to streamline your work processes and personal errands to get more done with less rushing around\n	Learn to apply the 80-20 rule for greater impact with less effort\n	Begin to do something about the problems that seem to crop up day after day
X-ALT-DESC;FMTTYPE=text/html:Make the most of the new year!&nbsp\; Whether you want to run your business more efficiently or make your life a little less hectic\, this workshop is for you.&nbsp\; Learn the time management techniques of over-achievers and squeeze a little more life into your hours\, minutes\, and seconds.&nbsp\;<br />\n&nbsp\;<br />\nIn this workshop you will:\n<ul>\n	<li>Learn a series of simple time-savers ranging from time-hacks to lasting habits</li>\n	<li>Examine time management from a sustainability perspective so you can prevent many avoidable\, time-consuming problems</li>\n	<li>Learn how to streamline your work processes and personal errands to get more done with less rushing around</li>\n	<li>Learn to apply the 80-20 rule for greater impact with less effort</li>\n	<li>Begin to do something about the problems that seem to crop up day after day</li>\n</ul>\n
LOCATION:V-Suites\, 2480 Waynoka Rd. Colorado Springs\, CO 80915
UID:e.1128.2387
SEQUENCE:3
DTSTAMP:20260425T031810Z
URL:https://chamber.scwcc.com/events/details/new-year-s-time-warp-make-the-most-of-your-minutes-in-2016-01-27-2016-2387
END:VEVENT

END:VCALENDAR
