BEGIN:VCALENDAR
VERSION:2.0
PRODID:-//ChamberMaster//Event Calendar 2.0//EN
METHOD:PUBLISH
X-PUBLISHED-TTL:P3D
REFRESH-INTERVAL:P3D
CALSCALE:GREGORIAN
BEGIN:VEVENT
DTSTART:20180823T220000Z
DTEND:20180824T000000Z
X-MICROSOFT-CDO-ALLDAYEVENT:FALSE
SUMMARY:Melody Living Ribbon Cutting
DESCRIPTION:Join Melody Living and SCWCC for a preview celebration of A Life in Harmony  at Melody Living\, Saturday\, August 23 from 4 pm - 6 pm at 7600 Sandy Rock Point\, 80924! Enjoy complimentary beverages\, hors d'oeuvres and community tours as we celebrate our official Grand Opening.
X-ALT-DESC;FMTTYPE=text/html:Join Melody Living and SCWCC for a preview celebration of A Life in Harmony&trade\; at Melody Living\, Saturday\, August 23 from 4 pm - 6 pm at 7600 Sandy Rock Point\, 80924! Enjoy complimentary beverages\, hors d&#39\;oeuvres and community tours as we celebrate our official Grand Opening.
LOCATION:Melody Living 7600 Sandy Rock Point Colorado Springs\, CO 80924
UID:e.1128.5539
SEQUENCE:3
DTSTAMP:20260423T043817Z
URL:https://chamber.scwcc.com/events/details/melody-living-ribbon-cutting-5539
END:VEVENT

END:VCALENDAR
