BEGIN:VCALENDAR
VERSION:2.0
PRODID:-//ChamberMaster//Event Calendar 2.0//EN
METHOD:PUBLISH
X-PUBLISHED-TTL:P3D
REFRESH-INTERVAL:P3D
CALSCALE:GREGORIAN
BEGIN:VEVENT
DTSTART:20160330T230000Z
DTEND:20160331T020000Z
X-MICROSOFT-CDO-ALLDAYEVENT:FALSE
SUMMARY:Life-Work Integration for Busy People: Forget balance! Try Peace of Mind Instead.
DESCRIPTION:Does "work-life balance" seem impossible?  Why not turn that tug of war into a tango that leaves you breathless and grinning at the end of the day?  Join Dr. Henderson for a few miles on the road to life-work integration.\n\n \n\nIn this workshop you will:\n\n	Learn how to deal with change in ways that promote adaptability in your organization and your self\n	Explore the reasons why you choose to prioritize one task over another and act according to what you value most\n	Apply tried and true concepts from business strategy to enhance your professional and personal life\n	Consider how sustaining yourself as an individual improves to your ability to be of service to others
X-ALT-DESC;FMTTYPE=text/html:Does &ldquo\;work-life balance&rdquo\; seem impossible?&nbsp\; Why not turn that tug of war into a tango that leaves you breathless and grinning at the end of the day?&nbsp\; Join Dr. Henderson for a few miles on the road to life-work integration.<br />\n&nbsp\;<br />\nIn this workshop you will:\n<ul>\n	<li>Learn how to deal with change in ways that promote adaptability in your organization and your self</li>\n	<li>Explore the reasons why you choose to prioritize one task over another and act according to what you value most</li>\n	<li>Apply tried and true concepts from business strategy to enhance your professional and personal life</li>\n	<li>Consider how sustaining yourself as an individual improves to your ability to be of service to others</li>\n</ul>\n
LOCATION:V-Suites\, 2480 Waynoka Rd. Colorado Springs\, CO 80915
UID:e.1128.2385
SEQUENCE:3
DTSTAMP:20260425T003818Z
URL:https://chamber.scwcc.com/events/details/life-work-integration-for-busy-people-forget-balance-try-peace-of-mind-instead-03-30-2016-2385
END:VEVENT

END:VCALENDAR
