BEGIN:VCALENDAR
VERSION:2.0
PRODID:-//ChamberMaster//Event Calendar 2.0//EN
METHOD:PUBLISH
X-PUBLISHED-TTL:P3D
REFRESH-INTERVAL:P3D
CALSCALE:GREGORIAN
BEGIN:VEVENT
DTSTART:20160225T000000Z
DTEND:20160225T030000Z
X-MICROSOFT-CDO-ALLDAYEVENT:FALSE
SUMMARY:Groundhog Day Express: Stop Solving the Same Problems Over & Over
DESCRIPTION:What if you could spot the behaviors and perceptions that are likely to repeat in your work and social life? Armed with that understanding\, what kinds of patterns would you create on purpose? Building on her successful TEDx talk\, The Fractal Challenge\, and her most recent book\, Dr. Henderson will teach you how to spot patterns and begin to make positive changes.\n\n \n\nIn this workshop you will:\n\n	Learn about recurring patterns in nature and in the ways that groups of people behave\n	Learn to adjust your perspective so you can see what kinds of patterns you are likely to see again and again\n	Look for the principles that might be driving those repeating situations\n	Think about your choices in a new way\n	Apply the concepts of pattern-spotting in your own life and work
X-ALT-DESC;FMTTYPE=text/html:What if you could spot the behaviors and perceptions that are likely to repeat in your work and social life? Armed with that understanding\, what kinds of patterns would you create on purpose? Building on her successful TED<sup>x </sup>talk\, <a href="https://www.youtube.com/watch?v=3F48rvdQMQA">The Fractal Challenge</a>\, and her most recent book\, Dr. Henderson will teach you how to spot patterns and begin to make positive changes.<br />\n&nbsp\;<br />\nIn this workshop you will:\n<ul>\n	<li>Learn about recurring patterns in nature and in the ways that groups of people behave</li>\n	<li>Learn to adjust your perspective so you can see what kinds of patterns you are likely to see again and again</li>\n	<li>Look for the principles that might be driving those repeating situations</li>\n	<li>Think about your choices in a new way</li>\n	<li>Apply the concepts of pattern-spotting in your own life and work</li>\n</ul>\n&nbsp\;
LOCATION:V-Suites\, 2480 Waynoka Rd. Colorado Springs\, CO 80915
UID:e.1128.2384
SEQUENCE:3
DTSTAMP:20260425T020240Z
URL:https://chamber.scwcc.com/events/details/groundhog-day-express-stop-solving-the-same-problems-over-over-02-24-2016-2384
END:VEVENT

END:VCALENDAR
