BEGIN:VCALENDAR
VERSION:2.0
PRODID:-//ChamberMaster//Event Calendar 2.0//EN
METHOD:PUBLISH
X-PUBLISHED-TTL:P3D
REFRESH-INTERVAL:P3D
CALSCALE:GREGORIAN
BEGIN:VEVENT
DTSTART:20180426T220000Z
DTEND:20180427T000000Z
X-MICROSOFT-CDO-ALLDAYEVENT:FALSE
SUMMARY:Grand Opening & Ribbon Cutting for Springs Ranch Memory Care Community & Cottages
DESCRIPTION:Join the SCWCC and Springs Ranch Memory Care Community & Cottages to celebrate their Grand Opening & Ribbon Cutting!\n\n\n\nEnjoy Hors d'oeuvres\, refreshments\, tours and wonderful door prizes:\n\n\n\n     $500 The Broadmoor\n\n     $250 The Mining Exchange\, A Wyndham Grand Hotel & Spa\n\n     $100 Cowboy Star Restaurant & Butcher Shop\n\n     Special Gift Baskets... and much more
X-ALT-DESC;FMTTYPE=text/html:Join the SCWCC and Springs Ranch Memory Care Community &amp\; Cottages to celebrate their Grand Opening &amp\; Ribbon Cutting!<br />\n<br />\nEnjoy Hors d&rsquo\;oeuvres\, refreshments\, tours and wonderful door prizes:<br />\n<br />\n&bull\;&nbsp\; &nbsp\; $500 The Broadmoor<br />\n&bull\;&nbsp\; &nbsp\; $250 The Mining Exchange\, A Wyndham Grand Hotel &amp\; Spa<br />\n&bull\;&nbsp\; &nbsp\; $100 Cowboy Star Restaurant &amp\; Butcher Shop<br />\n&bull\;&nbsp\; &nbsp\; Special Gift Baskets... and much more
LOCATION:3315 Emmett View Rd. Colorado Springs\, CO 80922
UID:e.1128.5517
SEQUENCE:3
DTSTAMP:20260423T110116Z
URL:https://chamber.scwcc.com/events/details/grand-opening-ribbon-cutting-for-springs-ranch-memory-care-community-cottages-5517
END:VEVENT

END:VCALENDAR
