BEGIN:VCALENDAR
VERSION:2.0
PRODID:-//ChamberMaster//Event Calendar 2.0//EN
METHOD:PUBLISH
X-PUBLISHED-TTL:P3D
REFRESH-INTERVAL:P3D
CALSCALE:GREGORIAN
BEGIN:VEVENT
DTSTART;VALUE=DATE:20260612
DTEND;VALUE=DATE:20260615
TRANSP:TRANSPARENT
X-MICROSOFT-CDO-ALLDAYEVENT:TRUE
SUMMARY:Garden of the Gods 75th Anniversary
DESCRIPTION:Garden of the Gods Resort and Club Celebrates its Historic 75th Anniversary Milestone\n\n \n\nColorado Springs\, CO (February 24\, 2026)   Garden of the Gods Resort and Club celebrates is historic 75th anniversary milestone this year\, commemorating a legacy that coincides with Colorado's 150th anniversary and America's 250th anniversary. Al and Margaret Hil purchased the property in 1949\, and shortly thereafter\, built a private club\, luxury resort\, and residential community in the natural setting of Garden of the Gods Park. The Garden of the Gods Club opened in June of 1951 and attracted people of means and influence: movie stars\, titans of industry\, politicians\, artists\, authors\, and musicians\, like Walt Disney\, Gene Autry and John Wayne.\n\n \n\nIn 2007\, Sunrise Company purchased the property from Hill Development and the Hill family. However\, in 2013\, local ownership returned when business leaders and long-time Garden of the Gods Club Members\, Brenda Smith and Judy Mackey\, acquired the resort\, ushering in a new era and renaming it Garden of the Gods Resort and Club.\n\n \n\nThe owner's forward-thinking vision for transformative wellness led to the creation of Strata Spa & Salon and Strata Med. In 2023\, the property invested $60 million to renovate guest rooms\, the Grand View restaurant\, the Kissing Camels clubhouse\, and wellness facilities. Garden of the Gods Resort and Club continues to balance respect for its history with an ambitious outlook. Today\, it has grown from an exclusive club into an inclusive holistic wellness destination.\n\n \n\nGarden of the Gods Resort and Club will celebrate its 75th Anniversary the weekend of June 12th   14th\, 2026 with a variety of Club Member and Resort Guest programming and specials:\n\n \n\n\n	\n	Wellness activations throughout the property including yoga\, sound baths\, and fitness classes\n	\n	\n	Public food and beverage specials at Grand View inspired by the Resort's history\n	\n	\n	Curated historical exhibits to explore throughout the property\n	\n	\n	Family-friendly experiences like live music\, a pool party\, and tennis exhibition\n	\n	\n	Exclusive 75th Anniversary merchandise available\, including a new historical coffee table style book chronicling the robust history of Garden of the Gods Resort and Club\n	\n	\n	The creation of a time capsule filled with significant artifacts\, stories\, and photographs honoring the past 75 years\n	\n\n\n \n\n"Celebrating 75 years is both a milestone and a responsibility\," said Judy Mackey\, co-owner of Garden of the Gods Resort and Club. "We are proud of the legacy entrusted to us\, rooted in vision\, hospitality\, and stewardship of this extraordinary setting. As we look ahead\, we remain committed to honoring our history while evolving as an inclusive\, holistic wellness destination for future generations."\n\n \n\nGuests can reserve a commemorative stay by visiting www.gardenofthegodsresort.com or by calling 719.632.5541.\n\n \n\nAbout Garden of the Gods Resort and Club\n\nPerched atop a mesa in Colorado Springs\, Garden of the Gods Resort and Club is an award-winning holistic wellness destination. In 2025\, they were named by Newsweek as one of "America's Best Fitness & Wellness Retreats" and from Spas of America\, was named the "#1 Spa in Colorado in the Top 100 Spas." This AAA Four-Diamond wellness retreat in the Rocky Mountain West is set among expansive vistas of the snow-capped Pikes Peak and National Natural Landmark\, Garden of the Gods Park.\n\n \n\nThey boast a legendary history\, having played host to some of America's most beloved characters such as Walt Disney\, Gene Autry and John Wayne. Today\, the same natural setting beckons travelers worldwide to undergo a personalized journey of restoration\, renewal and well-being with its thoughtful spa treatments and integrative\, multidimensional concierge wellness offerings at Strata Med and Strata Spa & Salon. Here\, a team of acclaimed physicians and award-winning therapists across many disciplines integrate the best of Western and Eastern medical science with nutrition\, fitness\, meditation\, and mindfulness coaching to provide guests with a fresh perspective\, greater level of whole-person wellness and a renewed sense of possibility.\n\n \n\nGuests will also enjoy luxurious accommodations in its 117 rooms and suites within its hotel\, Cottages and Casitas\, including one- to three-bedroom suites which feature private patios in all guest rooms\, and stunning views of Garden of the Gods Park in the Lodge guest rooms. Activities include golfing at its 27-hole championship course\; indoor and outdoor tennis and pickleball courts\; three outdoor swimming pools and an array of dining experiences. For more information\, call 719.632.5541 visit gardenofthegodsresort.com\, Stratawell.com or follow @GardenoftheGodsResortandClub on Facebook\, and @GGResortandClub on Instagram and Pinterest.
X-ALT-DESC;FMTTYPE=text/html:<p data-pm-slice="1 1 []"><strong>Garden of the Gods Resort and Club Celebrates its Historic 75th&nbsp\;Anniversary Milestone</strong></p>\n\n<p>&nbsp\;</p>\n\n<p><strong>Colorado Springs\, CO (February 24\, 2026) </strong>&ndash\; <u><a class="ProsemirrorEditor-link" href="https://www.gardenofthegodsresort.com/">Garden of the Gods Resort and Club</a></u>&nbsp\;celebrates is historic 75th&nbsp\;anniversary milestone this year\, commemorating a legacy that coincides with Colorado&rsquo\;s 150th&nbsp\;anniversary and America&rsquo\;s 250th&nbsp\;anniversary. Al and Margaret Hil purchased the property in 1949\, and shortly thereafter\, built a private club\, luxury resort\, and residential community in the natural setting of Garden of the Gods Park. The Garden of the Gods Club opened in June of 1951 and attracted people of means and influence: movie stars\, titans of industry\, politicians\, artists\, authors\, and musicians\, like Walt Disney\, Gene&nbsp\;Autry&nbsp\;and John Wayne.</p>\n\n<p>&nbsp\;</p>\n\n<p>In 2007\, Sunrise Company purchased the property from Hill Development and the Hill family. However\, in 2013\, local ownership returned when business leaders and long-time Garden of the Gods Club Members\, Brenda Smith and Judy Mackey\, acquired the resort\, ushering in a new era and renaming it Garden of the Gods Resort and Club.</p>\n\n<p>&nbsp\;</p>\n\n<p>The owner&#39\;s forward-thinking vision for transformative wellness led to the creation of Strata Spa &amp\; Salon and Strata Med. In 2023\, the property invested $60 million to renovate guest rooms\, the Grand View restaurant\, the Kissing Camels clubhouse\, and wellness facilities. Garden of the Gods Resort and Club continues to balance respect for its history with an ambitious outlook. Today\, it has grown from an exclusive club into an inclusive holistic wellness destination.</p>\n\n<p>&nbsp\;</p>\n\n<p>Garden of the Gods Resort and Club will celebrate its 75th&nbsp\;Anniversary the weekend of June 12th&nbsp\;&ndash\; 14th\, 2026 with a variety of Club Member and Resort Guest programming and specials:</p>\n\n<p>&nbsp\;</p>\n\n<ol class="ProsemirrorEditor-list">\n	<li class="ProsemirrorEditor-listItem" data-list-indent="1" data-list-type="bulleted" style="margin-left: 32px\;">\n	<p>Wellness activations throughout the property including yoga\, sound baths\, and fitness classes</p>\n	</li>\n	<li class="ProsemirrorEditor-listItem" data-list-indent="1" data-list-type="bulleted" style="margin-left: 32px\;">\n	<p>Public food and beverage specials at Grand View inspired by the Resort&rsquo\;s history</p>\n	</li>\n	<li class="ProsemirrorEditor-listItem" data-list-indent="1" data-list-type="bulleted" style="margin-left: 32px\;">\n	<p>Curated historical exhibits to explore throughout the property</p>\n	</li>\n	<li class="ProsemirrorEditor-listItem" data-list-indent="1" data-list-type="bulleted" style="margin-left: 32px\;">\n	<p>Family-friendly experiences like live music\, a pool party\, and tennis exhibition</p>\n	</li>\n	<li class="ProsemirrorEditor-listItem" data-list-indent="1" data-list-type="bulleted" style="margin-left: 32px\;">\n	<p>Exclusive 75th&nbsp\;Anniversary merchandise available\, including a new historical coffee table style book chronicling the robust history of Garden of the Gods Resort and Club</p>\n	</li>\n	<li class="ProsemirrorEditor-listItem" data-list-indent="1" data-list-type="bulleted" style="margin-left: 32px\;">\n	<p>The creation of a time capsule filled with significant artifacts\, stories\, and photographs honoring the past 75 years</p>\n	</li>\n</ol>\n\n<p>&nbsp\;</p>\n\n<p>&ldquo\;Celebrating 75 years is both a milestone and a responsibility\,&rdquo\; said Judy Mackey\, co-owner of Garden of the Gods Resort and Club. &ldquo\;We are proud of the legacy entrusted to us\, rooted in vision\, hospitality\, and stewardship of this extraordinary setting. As we look ahead\, we remain committed to honoring our history while evolving as an inclusive\, holistic wellness destination for future generations.&rdquo\;</p>\n\n<p>&nbsp\;</p>\n\n<p>Guests can reserve a commemorative stay by visiting <u><a class="ProsemirrorEditor-link" href="http://www.gardenofthegodsresort.com/">www.gardenofthegodsresort.com</a></u>&nbsp\;or by calling 719.632.5541.</p>\n\n<p>&nbsp\;</p>\n\n<p><strong>About Garden of the Gods Resort and Club</strong></p>\n\n<p>Perched atop a mesa in Colorado Springs\, Garden of the Gods Resort and Club is an award-winning holistic wellness destination. In 2025\, they were named by Newsweek as one of &ldquo\;America&rsquo\;s Best Fitness &amp\; Wellness Retreats&rdquo\; and from Spas of America\, was named the &ldquo\;#1 Spa in Colorado in the Top 100 Spas.&rdquo\; This AAA Four-Diamond wellness retreat in the Rocky Mountain West is set among expansive vistas of the snow-capped Pikes Peak and National Natural Landmark\, Garden of the Gods Park.</p>\n\n<p>&nbsp\;</p>\n\n<p>They boast a legendary history\, having played host to some of America&rsquo\;s most beloved characters such as Walt Disney\, Gene&nbsp\;Autry&nbsp\;and John Wayne. Today\, the same natural setting beckons travelers worldwide to undergo a personalized journey of restoration\, renewal and well-being with its thoughtful spa treatments and integrative\, multidimensional concierge wellness offerings at&nbsp\;Strata Med and Strata Spa &amp\; Salon.&nbsp\;Here\, a team of acclaimed physicians and award-winning therapists across many disciplines integrate the best of Western and Eastern medical science with nutrition\, fitness\,&nbsp\;meditation\,&nbsp\;and mindfulness coaching to provide guests with a fresh perspective\, greater level of whole-person wellness and a renewed sense of possibility.</p>\n\n<p>&nbsp\;</p>\n\n<p>Guests will also enjoy luxurious accommodations in its 117 rooms and suites within its hotel\, Cottages and Casitas\, including one- to three-bedroom suites which feature private patios in all guest rooms\, and stunning views of Garden of the Gods Park in the Lodge guest rooms. Activities include golfing at its 27-hole championship course\; indoor and outdoor tennis and pickleball courts\; three outdoor swimming pools and an array of dining experiences. For more information\, call 719.632.5541 visit <u><a class="ProsemirrorEditor-link" href="https://nyl.as/t1/167/cyy7d12ix5ml2i6xd67v7y0kv/4/648e15901d483b23dc1d5e5c6d7215fcb9e115eb24eb2e12686f097c3169e387">gardenofthegodsresort.com</a></u>\, <u><a class="ProsemirrorEditor-link" href="https://nyl.as/t1/167/cyy7d12ix5ml2i6xd67v7y0kv/5/3430a04130a256c06c9e33db344f2d1b52806baec839eebe93b2de98330a4cb0">Stratawell.com</a></u>&nbsp\;or follow @GardenoftheGodsResortandClub on Facebook\, and @GGResortandClub on Instagram and Pinterest.&nbsp\;</p>\n
LOCATION:Garden of the Gods Resort
UID:e.1128.7073
SEQUENCE:3
DTSTAMP:20260421T144222Z
URL:https://chamber.scwcc.com/events/details/garden-of-the-gods-75th-anniversary-7073
END:VEVENT

END:VCALENDAR
