BEGIN:VCALENDAR
VERSION:2.0
PRODID:-//ChamberMaster//Event Calendar 2.0//EN
METHOD:PUBLISH
X-PUBLISHED-TTL:P3D
REFRESH-INTERVAL:P3D
CALSCALE:GREGORIAN
BEGIN:VEVENT
DTSTART:20150405T170000Z
DTEND:20150405T193000Z
X-MICROSOFT-CDO-ALLDAYEVENT:FALSE
SUMMARY:Easter Brunch at the DoubleTree by Hilton Colorado Springs
DESCRIPTION:Join us in our Grand Ballroom for Easter Brunch at the DoubleTree! Bring your family and enjoy great food\, entertainment from the Flying W Wranglers\, and an Easter Egg Hunt. The Easter Bunny will also be here!\n\n\n\nSeatings are at 11:00\, 11:30\, 12 noon\, 12:30\, 1:00 and 1:30. Reservations can be made by calling (719) 576-8900. Prices are: Adults $32\, Seniors $27\, Children ages 5 to 11 $15\, and kids 4 and under eat free with a paid adult.\n\n\n\nPrices are plus 7.63% and gratuity at your discretion. We hope to see you there!
X-ALT-DESC;FMTTYPE=text/html:Join us in our Grand Ballroom for Easter Brunch at the DoubleTree! Bring your family and enjoy great food\, entertainment from the Flying W Wranglers\, and an Easter Egg Hunt. The Easter Bunny will also be here!<br />\n<br />\nSeatings are at 11:00\, 11:30\, 12 noon\, 12:30\, 1:00 and 1:30. Reservations can be made by calling (719) 576-8900. Prices are: Adults $32\, Seniors $27\, Children ages 5 to 11 $15\, and kids 4 and under eat free with a paid adult.<br />\n<br />\nPrices are plus 7.63% and gratuity at your discretion. We hope to see you there!
LOCATION:DoubleTree by Hilton Colorado Springs
UID:e.1128.1857
SEQUENCE:3
DTSTAMP:20260425T172216Z
URL:https://chamber.scwcc.com/events/details/easter-brunch-at-the-doubletree-by-hilton-colorado-springs-04-05-2015-1857
END:VEVENT

END:VCALENDAR
