BEGIN:VCALENDAR
VERSION:2.0
PRODID:-//ChamberMaster//Event Calendar 2.0//EN
METHOD:PUBLISH
X-PUBLISHED-TTL:P3D
REFRESH-INTERVAL:P3D
CALSCALE:GREGORIAN
BEGIN:VEVENT
DTSTART:20190219T150000Z
DTEND:20190219T190000Z
X-MICROSOFT-CDO-ALLDAYEVENT:FALSE
SUMMARY:Colorado Women's Chamber of Commerce (Denver) Day at the Capitol
DESCRIPTION:Join the Southern Colorado Women's Chamber of Commerce \n\n& Colorado Women's Chamber of Commerce for \nDay at the Capitol\n\n\nFebruary 19\, 2019\n\n8:00 AM - 12:00 PM\n\n\n\nColorado State Capitol\n\n1st Floor Lobby West Foyer\n\n200 E. Colfax Ave.\n\nDenver\, CO 80203\n\n\n\n$15 for CWCC Members\n\n$20 for Non-Members
X-ALT-DESC;FMTTYPE=text/html:Join the Southern Colorado Women&#39\;s Chamber of Commerce&nbsp\;<br />\n<strong>&amp\; Colorado Women&#39\;s Chamber of Commerce for&nbsp\;</strong>\n<h2>Day at the Capitol</h2>\n<br />\n<strong>February 19\, 2019</strong><br />\n8:00 AM - 12:00 PM<br />\n<br />\nColorado State Capitol<br />\n1st Floor Lobby West Foyer<br />\n200 E. Colfax Ave.<br />\nDenver\, CO 80203<br />\n<br />\n$15 for CWCC Members<br />\n$20 for Non-Members
LOCATION:Colorado State Capitol 1st Floor Lobby West Foyer 200 E. Colfax Ave. Denver\, CO 80203
UID:e.1128.5677
SEQUENCE:3
DTSTAMP:20260422T182817Z
URL:https://chamber.scwcc.com/events/details/colorado-women-s-chamber-of-commerce-denver-day-at-the-capitol-5677
END:VEVENT

END:VCALENDAR
