BEGIN:VCALENDAR
VERSION:2.0
PRODID:-//ChamberMaster//Event Calendar 2.0//EN
METHOD:PUBLISH
X-PUBLISHED-TTL:P3D
REFRESH-INTERVAL:P3D
CALSCALE:GREGORIAN
BEGIN:VEVENT
DTSTART;VALUE=DATE:20150428
DTEND;VALUE=DATE:20150429
TRANSP:TRANSPARENT
X-MICROSOFT-CDO-ALLDAYEVENT:TRUE
SUMMARY:Athena Award | Partner Luncheon
DESCRIPTION:As it has for several years\, the Women's Chamber partners with selected events that honor women in the community - and this premiere event is no exception. The Colorado Springs Regional Business Alliance\, in partnership with the Better Business Bureau of Southern Colorado will honor one woman business leader with the 2015 ATHENA Award.
X-ALT-DESC;FMTTYPE=text/html:As it has for several years\, the Women&#39\;s Chamber partners with selected events that honor women in the community - and this premiere event is no exception.&nbsp\;<span>The Colorado Springs Regional Business Alliance\, in partnership with the Better Business Bureau of Southern Colorado will honor one woman business leader with the 2015 ATHENA Award. </span>
LOCATION:Broadmoor Hall 1 Lake Avenue
UID:e.1128.1851
SEQUENCE:3
DTSTAMP:20260425T172139Z
URL:https://chamber.scwcc.com/events/details/athena-award-partner-luncheon-04-28-2015-1851
END:VEVENT

END:VCALENDAR
