BEGIN:VCALENDAR
VERSION:2.0
PRODID:-//ChamberMaster//Event Calendar 2.0//EN
METHOD:PUBLISH
X-PUBLISHED-TTL:P3D
REFRESH-INTERVAL:P3D
CALSCALE:GREGORIAN
BEGIN:VEVENT
DTSTART:20150818T170000Z
DTEND:20150818T200000Z
X-MICROSOFT-CDO-ALLDAYEVENT:FALSE
SUMMARY:ACCOLADES Luncheon ~ TABLES
DESCRIPTION:RESERVE a Full or Half TABLE here | The Accolades Business Leader of the Year & Annual Awards luncheon celebrates the accomplishments of the Southern Colorado Women's Chamber of Commerce in an expanded format with emceed program remarks\, a keynote speaker\, limited edition publications\, well-earned recognitions and a fundraiser to support the SCWCC Foundation.\n\nA wrap-around Silent Auction Fundraiser is also conducted by the SCWCC Foundation\, to support its work to underwrite a full scholarship through the Karen Possehl Women's Endowment at UCCS each year.\n\n\nCorporations\, nominee supporters and related small groups of attendees are invited to reserve a full or half table for your group to celebrate at Accolades.\n\n\n\nTable reservations are open to members and non-members alike\, and you may use the comments field to submit the names of your group - or email your guest list to info@scwcc.com.\n\n \n\n\nWhy is the price $60 per attendee at a table? Tables are highly likely to be made up of a mix of members and non-members\, so the unit pricing is set mid-way between the two individual fees.\n\n\n\nEven if a table IS made up of all members\, the upcharge is for the reservation itself (holding a full or half table for specific people)\; otherwise the event is open seating and attendees would have to meet up\, get together and find available space if they wanted to sit together.\n\n\n\nWith a reserved table\, members are able to select who they sit with and have it guaranteed in advance\, with a slight upcharge. Non-member guests do get a bit of a break if they're in a group that's willing to commit to a multiple seat purchase.
X-ALT-DESC;FMTTYPE=text/html:<p><span style="color: rgb(255\, 0\, 0)\;"><b>RESERVE a&nbsp\;Full or Half TABLE here |</b></span><span style="color: rgb(218\, 165\, 32)\;"><b>&nbsp\;</b></span>The Accolades Business Leader of the Year &amp\; Annual Awards luncheon celebrates the accomplishments of the Southern Colorado Women&#39\;s Chamber of Commerce in an expanded format with emceed program remarks\, a keynote speaker\, limited edition publications\, well-earned recognitions and a fundraiser to support the SCWCC Foundation.</p>\n\n<p>A wrap-around Silent Auction Fundraiser is also conducted by the <a href="http://scwcc.com/fdn.html">SCWCC Foundation</a>\, to support its work to underwrite a full scholarship through the Karen Possehl Women&#39\;s Endowment at UCCS each year.</p>\n\n<hr />\n<p>Corporations\, nominee supporters and related small groups of attendees are invited to reserve a full or half table for your group to celebrate at Accolades.<br />\n<br />\nTable reservations are open to members and non-members alike\, and you may use the comments field to submit the names of your group - or <a href="mailto:info@scwcc.com?subject=Accolades%20table%20guest%20list">email your guest list to info@scwcc.com.</a><br />\n&nbsp\;</p>\n\n<hr />\n<p><strong>Why is the price $60 per attendee at a table? </strong>Tables are highly likely to be made up of a mix of members and non-members\, so the unit pricing is set mid-way between the two <em>individual </em>fees.<br />\n<br />\nEven if a table IS made up of all members\, the upcharge is for the reservation itself (holding a full or half table for specific people)\; otherwise the event is open seating and attendees would have to meet up\, get together and find available space if they wanted to sit together.<br />\n<br />\nWith a reserved table\, members are able to select who they sit with and have it guaranteed in advance\, with a slight upcharge. Non-member guests do get a bit of a break if they&rsquo\;re in a group that&rsquo\;s willing to commit to a multiple seat purchase.</p>\n
LOCATION:Garden of the Gods Club 3320 Mesa Road
UID:e.1128.1913
SEQUENCE:3
DTSTAMP:20260425T110606Z
URL:https://chamber.scwcc.com/events/details/accolades-luncheon-tables-08-18-2015-1913
END:VEVENT

END:VCALENDAR
