BEGIN:VCALENDAR
VERSION:2.0
PRODID:-//ChamberMaster//Event Calendar 2.0//EN
METHOD:PUBLISH
X-PUBLISHED-TTL:P3D
REFRESH-INTERVAL:P3D
CALSCALE:GREGORIAN
BEGIN:VEVENT
DTSTART:20120628T230000Z
DTEND:20120629T010000Z
X-MICROSOFT-CDO-ALLDAYEVENT:FALSE
SUMMARY:Sunset Meet & Greet
DESCRIPTION:POSTPONED ... Due to the wildfire and related evacuations\, we've decided to postpone this Meet & Greet to a later date. We'll keep you posted on a new date and time\, after the threat has eased. Stay safe!\n\n	\n\n	We're having a grand time at SCWCC after-hours receptions ... as they ramp up to monthly ... so plan to attend the June 28 Sunset Meet & Greet - hosted by Colorado Springs State Bank.\n\n	\n\n	We'll start a bit later than usual (by a half-hour\, to allow the bank to close for the day before we commence)\, so set your schedule for 5:00 - 7:00 pm on Thursday\, June 28\, at 3110 North Nevada [  map ]\n\n	Come celebrate with our friends Marge Davis and Cindy Valdez\, who will treat us to a choice of red and white wines\, or an Arnold Palmer with Agave Mint Lime Simple Syrup. Common Cause Catering is on deck to feature hot and cold Hors d'Ouevres - like Thai Curried Chicken Wraps with Peanut Sauce\, Brown Sugar Glazed Bacon Skewers with Salted Apple and Balsamic Glazed Strawberries with Peppered Goat Cheese on Croustini - just for starters!\n\n	Prize giveaways will include $50 gift certificates from from Rose Yancik at Pure and Natural Aesthetics\, plus large gift baskets from Marcia Clement Breit at Basket Perfect. All this - and dynamic networking - promise to make this event a summer sizzler!\n\n	Expect to welcome new member Pamela Hirshman with Sheridan Ross\, who is our primary  Display Host.  A limited number of promotional spots remain available ... first-come\, first-served ... for members-only who act quickly to add the "display" option to registration when following the links below to sign up.\n\n	 \n\n\n	\n\n	Members ONLY Business Display (limits vary)\n\n	First-come\, first-served ... members may reserve available promotional spots (limited by venue size) to set up a business display at Sunset Meet & Greets. Check the annual calendar for scheduled hosts to find a good match for your company's products or services\, and reserve with your registration today!
X-ALT-DESC;FMTTYPE=text/html:<p>\n	<span style="color:#ff0000\;"><strong>POSTPONED ... Due to the wildfire and related evacuations\, we&#39\;ve decided to postpone this Meet &amp\; Greet to a later date. We&#39\;ll keep you posted on a new date and time\, after the threat has eased. Stay safe!</strong></span><br />\n	<br />\n	We&#39\;re having a grand time at SCWCC after-hours receptions ... <em>as they ramp up to monthly</em> ... so plan to attend the June 28 <strong>Sunset Meet &amp\; Greet</strong> - hosted by <a href="https://www.herringbank.com/colorado.html">Colorado Springs State Bank</a>.<br />\n	<br />\n	We&#39\;ll start a bit later than usual (by a half-hour\, to allow the bank to close for the day before we commence)\, so set your schedule for <strong>5:00 - 7:00 pm on Thursday\, June 28</strong>\, at 3110 North Nevada [ <a href="https://maps.google.com/maps/ms?msid=206544197626939026395.000465fb58ebd92dd6325&amp\;msa=0&amp\;ll=38.877002\,-104.819409&amp\;spn=0.002731\,0.005681&amp\;iwloc=000465fb78c0044615adc"> map</a> ]</p>\n<p>\n	Come celebrate with our friends <i>Marge Davis and Cindy Valdez</i>\, who will treat us to a choice of red and white wines\, or an Arnold Palmer with Agave Mint Lime Simple Syrup. Common Cause Catering is on deck to feature hot and cold Hors d&rsquo\;Ouevres - <i>like Thai Curried Chicken Wraps with Peanut Sauce\, Brown Sugar Glazed Bacon Skewers with Salted Apple and Balsamic Glazed Strawberries with Peppered Goat Cheese on Croustini</i> - just for starters!</p>\n<p>\n	<b>Prize giveaways</b> will include $50 gift certificates from from Rose Yancik at <a href="http://www.pureandnaturalaesthetics.com/">Pure and Natural Aesthetics</a>\, plus large gift baskets from Marcia Clement Breit at Basket Perfect. All this - and dynamic networking - promise to make this event a summer sizzler!</p>\n<p>\n	Expect to welcome new member <b>Pamela Hirshman</b> with <a href="http://sheridanross.com/">Sheridan Ross</a>\, who is our primary <b> Display Host. </b> A limited number of promotional spots remain available ... <i>first-come\, first-served</i> ... for members-only who act quickly to add the &quot\;display&quot\; option to registration when following the links below to sign up.<br />\n	&nbsp\;</p>\n<hr />\n<p>\n	<br />\n	<span style="color: #008080"><b>Members ONLY Business Display</b></span> (limits vary)<br />\n	First-come\, first-served ... members may reserve&nbsp\;available promotional spots (limited by venue size)&nbsp\;to set up a business display at Sunset Meet &amp\; Greets. <a href="http://www.scwcc.com/calendar-of-events.html"><font color="#666666">Check the annual calendar for scheduled hosts</font></a> to find a good match for your company&#39\;s products or services\, and reserve with your registration&nbsp\;today!</p>\n<p _mce_style="margin-top: 0px\; margin-bottom: 0px\;" style="MARGIN-TOP: 0px\; MARGIN-BOTTOM: 0px">\n	&nbsp\;</p>\n
LOCATION:3110 North Nevada Avenue
UID:e.1128.481
SEQUENCE:3
DTSTAMP:20260426T021700Z
URL:http://chamber.scwcc.com/events/details/sunset-meet-greet-06-28-2012-481
END:VEVENT

END:VCALENDAR
