BEGIN:VCALENDAR
VERSION:2.0
PRODID:-//ChamberMaster//Event Calendar 2.0//EN
METHOD:PUBLISH
X-PUBLISHED-TTL:P3D
REFRESH-INTERVAL:P3D
CALSCALE:GREGORIAN
BEGIN:VEVENT
DTSTART:20120508T180000Z
DTEND:20120508T190000Z
X-MICROSOFT-CDO-ALLDAYEVENT:FALSE
SUMMARY:Storytelling Connections Lunch
DESCRIPTION:Every month a guest speaker will be sharing their story of a new experience in their life and how it impacted them. Storytelling\, an ancient form of communication\, is a powerful way to learn from each other and celebrate community.\n\n\n\nCheck our calendar or sign up for our newsletter to get details every month on who will be telling their story.\n\nhttp://www.centerforpowerfulliving.com/events/storytelling\n\n\n\nWe welcome you to bring your own lunch. No RSVP necessary.
X-ALT-DESC;FMTTYPE=text/html:Every month a guest speaker will be sharing their story of a new experience in their life and how it impacted them. Storytelling\, an ancient form of communication\, is a powerful way to learn from each other and celebrate community.<br />\n<br />\nCheck our calendar or sign up for our newsletter to get details every month on who will be telling their story.<br />\nhttp://www.centerforpowerfulliving.com/events/storytelling<br />\n<br />\nWe welcome you to bring your own lunch. No RSVP necessary.
LOCATION:Center for Powerful Living 635 Southpointe Ct Colorado Springs\, CO 80906
UID:e.1128.458
SEQUENCE:3
DTSTAMP:20260426T004431Z
URL:http://chamber.scwcc.com/events/details/storytelling-connections-lunch-05-08-2012-458
END:VEVENT

END:VCALENDAR
