BEGIN:VCALENDAR
VERSION:2.0
PRODID:-//ChamberMaster//Event Calendar 2.0//EN
METHOD:PUBLISH
X-PUBLISHED-TTL:P3D
REFRESH-INTERVAL:P3D
CALSCALE:GREGORIAN
BEGIN:VEVENT
DTSTART;VALUE=DATE:20110823
DTEND;VALUE=DATE:20110824
TRANSP:TRANSPARENT
X-MICROSOFT-CDO-ALLDAYEVENT:TRUE
SUMMARY:Event at Wenzel\, Kathryn
DESCRIPTION:
X-ALT-DESC;FMTTYPE=text/html:
LOCATION:
UID:e.1128.135
SEQUENCE:3
DTSTAMP:20260425T110848Z
URL:http://chamber.scwcc.com/events/details/event-at-wenzel-kathryn-08-23-2011-135
END:VEVENT

END:VCALENDAR
