BEGIN:VCALENDAR
VERSION:2.0
PRODID:-//ChamberMaster//Event Calendar 2.0//EN
METHOD:PUBLISH
X-PUBLISHED-TTL:P3D
REFRESH-INTERVAL:P3D
CALSCALE:GREGORIAN
BEGIN:VEVENT
DTSTART:20111026T220000Z
DTEND:20111026T233000Z
X-MICROSOFT-CDO-ALLDAYEVENT:FALSE
SUMMARY:Event at Kennedy Baxter\, Lynn
DESCRIPTION:Does your teen get so nervous before tests he can't think?\n\n  Does she blank out on tests?\n\n  Get sick or freak out?\n\n  Do their grades suffer because they are so nervous?\n\n\n\nTeens learn to handle anxiety so it does not interfere with their ability\n\nTo take tests and does not wreck their grades.\n\n\n\nLearn EFT\, Emotional Freedom Technique\, to release anxiety and improve\n\nConcentration and focus during a test.\n\n\n\nUse pre-recorded guided imagery for "Relaxation & Confidence"
X-ALT-DESC;FMTTYPE=text/html:&bull\; Does your teen get so nervous before tests he can&rsquo\;t think?<br />\n&bull\; Does she blank out on tests?<br />\n&bull\; Get sick or freak out?<br />\n&bull\; Do their grades suffer because they are so nervous?<br />\n<br />\nTeens learn to handle anxiety so it does not interfere with their ability<br />\nTo take tests and does not wreck their grades.<br />\n<br />\nLearn EFT\, Emotional Freedom Technique\, to release anxiety and improve<br />\nConcentration and focus during a test.<br />\n<br />\nUse pre-recorded guided imagery for &ldquo\;Relaxation &amp\; Confidence&rdquo\;<br />\n
LOCATION:2790 N. Academy Blvd.\, Suite 206\, Colorado Springs 80917
UID:e.1128.141
SEQUENCE:3
DTSTAMP:20260425T141412Z
URL:http://chamber.scwcc.com/events/details/event-at-kennedy-baxter-lynn-10-26-2011-141
END:VEVENT

END:VCALENDAR
