BEGIN:VCALENDAR
VERSION:2.0
PRODID:-//ChamberMaster//Event Calendar 2.0//EN
METHOD:PUBLISH
X-PUBLISHED-TTL:P3D
REFRESH-INTERVAL:P3D
CALSCALE:GREGORIAN
BEGIN:VEVENT
DTSTART:20110818T233000Z
DTEND:20110819T013000Z
X-MICROSOFT-CDO-ALLDAYEVENT:FALSE
SUMMARY:Event at Holistic Networkers Association
DESCRIPTION:An Evening with Local Authors - Wine Tasting\, Live Music\, Silent Auction and Food!
X-ALT-DESC;FMTTYPE=text/html:An Evening with Local Authors - Wine Tasting\, Live Music\, Silent Auction and Food!
LOCATION:Dr. Bonnie May Chiropractic and Sage Woman Herbs\, 108 E. Cheyenne Road\, CS
UID:e.1128.134
SEQUENCE:3
DTSTAMP:20260425T105020Z
URL:http://chamber.scwcc.com/events/details/event-at-holistic-networkers-association-08-18-2011-134
END:VEVENT

END:VCALENDAR
