BEGIN:VCALENDAR
VERSION:2.0
PRODID:-//ChamberMaster//Event Calendar 2.0//EN
METHOD:PUBLISH
X-PUBLISHED-TTL:P3D
REFRESH-INTERVAL:P3D
CALSCALE:GREGORIAN
BEGIN:VEVENT
DTSTART:20120530T220000Z
DTEND:20120531T010000Z
X-MICROSOFT-CDO-ALLDAYEVENT:FALSE
SUMMARY:Direct2Business Connecting Bash
DESCRIPTION:Whether you are networking or connecting\, once you become known as a valuable resource for other\, all types of associates\, prospects and customers will seek you out for advice\, ideas\, contacts and referrals. In turn\, this type of activity keeps your visibility high and gains good exposure for your business.
X-ALT-DESC;FMTTYPE=text/html:Whether you are networking or connecting\, once you become known as a valuable resource for other\, all types of associates\, prospects and customers will seek you out for advice\, ideas\, contacts and referrals. In turn\, this type of activity keeps your visibility high and gains good exposure for your business.
LOCATION:The Carter Payne (320 S. Weber St. 80903)
UID:e.1128.484
SEQUENCE:3
DTSTAMP:20260426T004308Z
URL:http://chamber.scwcc.com/events/details/direct2business-connecting-bash-05-30-2012-484
END:VEVENT

END:VCALENDAR
