BEGIN:VCALENDAR
VERSION:2.0
PRODID:-//ChamberMaster//Event Calendar 2.0//EN
METHOD:PUBLISH
X-PUBLISHED-TTL:P3D
REFRESH-INTERVAL:P3D
CALSCALE:GREGORIAN
BEGIN:VEVENT
DTSTART:20120227T183000Z
DTEND:20120227T183000Z
X-MICROSOFT-CDO-ALLDAYEVENT:FALSE
SUMMARY:Chamber Exchange / Business Strategies
DESCRIPTION:Mastermind groups are a great way to expand your business\, learn new methods\, exchange ideas and interact with professional peers. Finding people you can go to for advice is critical for any size business   and what works best are give-and-take environments in which everyone shares ideas as well as receives advice.
X-ALT-DESC;FMTTYPE=text/html:Mastermind groups are a great way to expand your business\, learn new methods\, exchange ideas and interact with professional peers. Finding people you can go to for advice is critical for any size business &ndash\; and what works best are give-and-take environments in which everyone shares ideas as well as receives advice.<br />\n<br />\n
LOCATION:Venue TBA
UID:e.1128.436
SEQUENCE:3
DTSTAMP:20260425T201819Z
URL:http://chamber.scwcc.com/events/details/chamber-exchange-business-strategies-02-27-2012-436
END:VEVENT

END:VCALENDAR
