BEGIN:VCALENDAR
VERSION:2.0
PRODID:-//ChamberMaster//Event Calendar 2.0//EN
METHOD:PUBLISH
X-PUBLISHED-TTL:P3D
REFRESH-INTERVAL:P3D
CALSCALE:GREGORIAN
BEGIN:VEVENT
DTSTART:20150818T170000Z
DTEND:20150818T200000Z
X-MICROSOFT-CDO-ALLDAYEVENT:FALSE
SUMMARY:ACCOLADES Luncheon ~ OPEN Seating
DESCRIPTION:RESERVE Individual / Single OPEN SEATING here | The Accolades Business Leader of the Year & Annual Awards luncheon celebrates the accomplishments of the Southern Colorado Women's Chamber of Commerce in an expanded format with emceed program remarks\, a keynote speaker\, limited edition publications\, well-earned recognitions and a fundraiser to support the SCWCC Foundation.\n\nA wrap-around Silent Auction Fundraiser is also conducted by the SCWCC Foundation\, to support its work to underwrite a full scholarship through the Karen Possehl Women's Endowment at UCCS each year.
X-ALT-DESC;FMTTYPE=text/html:<p><span style="color: rgb(255\, 0\, 0)\;"><b>RESERVE&nbsp\;Individual / Single OPEN SEATING&nbsp\;here |</b></span><span style="color: rgb(218\, 165\, 32)\;"><b>&nbsp\;</b></span>The Accolades Business Leader of the Year &amp\; Annual Awards luncheon celebrates the accomplishments of the Southern Colorado Women&#39\;s Chamber of Commerce in an expanded format with emceed program remarks\, a keynote speaker\, limited edition publications\, well-earned recognitions and a fundraiser to support the SCWCC Foundation.</p>\n\n<p>A wrap-around Silent Auction Fundraiser is also conducted by the <a href="http://scwcc.com/fdn.html"><font color="#0066cc">SCWCC</font><font color="#0066cc"> Foundation</font></a>\, to support its work to underwrite a full scholarship through the Karen Possehl Women&#39\;s Endowment at UCCS each year.</p>\n
LOCATION:Garden of the Gods Club 3220 Mesa Road
UID:e.1128.1471
SEQUENCE:3
DTSTAMP:20260425T141250Z
URL:http://chamber.scwcc.com/events/details/accolades-luncheon-open-seating-08-18-2015-1471
END:VEVENT

END:VCALENDAR
